BEGIN:VCALENDAR
VERSION:2.0
PRODID:icalendar-ruby
CALSCALE:GREGORIAN
METHOD:PUBLISH
BEGIN:VEVENT
DTSTAMP:20260424T165232Z
UID:e60abbf6-6ad7-4532-917a-a633a464a13f
DTSTART;VALUE=DATE:20130216
DTEND;VALUE=DATE:20130216
DESCRIPTION:Sandy Ridge BMX
LOCATION:1200 Keys Ferry Rd  McDonough GA 30253 USA
SUMMARY:Local Race Single
URL:/site/bmx_races/56940
END:VEVENT
END:VCALENDAR
