BEGIN:VCALENDAR
VERSION:2.0
PRODID:icalendar-ruby
CALSCALE:GREGORIAN
METHOD:PUBLISH
BEGIN:VEVENT
DTSTAMP:20260425T230116Z
UID:dd83213c-e8b1-48fa-859d-224e535a1a97
DTSTART;VALUE=DATE:20250730
DTEND;VALUE=DATE:20250730
DESCRIPTION:Winnebagoland BMX
LOCATION:4650 Jackson Street  Oshkosh WI 54901 USA
SUMMARY:Local Race Single
URL:/site/bmx_races/569467
END:VEVENT
END:VCALENDAR
