BEGIN:VCALENDAR
VERSION:2.0
PRODID:icalendar-ruby
CALSCALE:GREGORIAN
METHOD:PUBLISH
BEGIN:VEVENT
DTSTAMP:20260424T114017Z
UID:6b0c26ae-70b9-46a3-a2a0-2a12be455b3c
DTSTART;VALUE=DATE:20130611
DTEND;VALUE=DATE:20130611
DESCRIPTION:Sandy Ridge BMX
LOCATION:1200 Keys Ferry Rd  McDonough GA 30253 USA
SUMMARY:Practice
URL:/site/bmx_races/56956
END:VEVENT
END:VCALENDAR
