BEGIN:VCALENDAR
VERSION:2.0
PRODID:icalendar-ruby
CALSCALE:GREGORIAN
METHOD:PUBLISH
BEGIN:VEVENT
DTSTAMP:20260421T031412Z
UID:d65b070b-ac86-40c5-9fb8-3ff0f57dddfb
DTSTART;VALUE=DATE:20240912
DTEND;VALUE=DATE:20240912
DESCRIPTION:Hardesty National BMX Stadium
LOCATION:490 N Lansing Ave  Tulsa OK 74120 USA
SUMMARY:Local Race Single
URL:/site/bmx_races/569581
END:VEVENT
END:VCALENDAR
