BEGIN:VCALENDAR
VERSION:2.0
PRODID:icalendar-ruby
CALSCALE:GREGORIAN
METHOD:PUBLISH
BEGIN:VEVENT
DTSTAMP:20260422T181755Z
UID:6379d86f-aec9-473f-a5ff-7e03c3989a6b
DTSTART;VALUE=DATE:20251014
DTEND;VALUE=DATE:20251014
DESCRIPTION:Lincoln Park BMX
LOCATION:South L St & W. Lauridsen Blvd  Port Angeles WA 98362 USA
SUMMARY:Local Race Single
URL:/site/bmx_races/569835
END:VEVENT
END:VCALENDAR
