BEGIN:VCALENDAR
VERSION:2.0
PRODID:icalendar-ruby
CALSCALE:GREGORIAN
METHOD:PUBLISH
BEGIN:VEVENT
DTSTAMP:20260421T120217Z
UID:93c9a385-16a8-412e-a7b7-d7d7e27e1682
DTSTART;VALUE=DATE:20250401
DTEND;VALUE=DATE:20250401
DESCRIPTION:High Springs BMX
LOCATION:  High Springs FL 32028 USA
SUMMARY:Practice
URL:/site/bmx_races/570275
END:VEVENT
END:VCALENDAR
