BEGIN:VCALENDAR
VERSION:2.0
PRODID:icalendar-ruby
CALSCALE:GREGORIAN
METHOD:PUBLISH
BEGIN:VEVENT
DTSTAMP:20260421T070134Z
UID:73345bcc-c9c4-41a1-b64b-b9f60320d509
DTSTART;VALUE=DATE:20250819
DTEND;VALUE=DATE:20250819
DESCRIPTION:High Springs BMX
LOCATION:  High Springs FL 32028 USA
SUMMARY:Practice
URL:/site/bmx_races/570334
END:VEVENT
END:VCALENDAR
