BEGIN:VCALENDAR
VERSION:2.0
PRODID:icalendar-ruby
CALSCALE:GREGORIAN
METHOD:PUBLISH
BEGIN:VEVENT
DTSTAMP:20260420T230555Z
UID:48a47b1a-27cf-4f47-a789-d187f5a0a2e2
DTSTART;VALUE=DATE:20251030
DTEND;VALUE=DATE:20251030
DESCRIPTION:High Springs BMX
LOCATION:  High Springs FL 32028 USA
SUMMARY:Practice
URL:/site/bmx_races/570369
END:VEVENT
END:VCALENDAR
