BEGIN:VCALENDAR
VERSION:2.0
PRODID:icalendar-ruby
CALSCALE:GREGORIAN
METHOD:PUBLISH
BEGIN:VEVENT
DTSTAMP:20260420T192743Z
UID:f746b01e-6232-4a54-bff7-5778b83b8bb3
DTSTART;VALUE=DATE:20251204
DTEND;VALUE=DATE:20251204
DESCRIPTION:High Springs BMX
LOCATION:  High Springs FL 32028 USA
SUMMARY:Practice
URL:/site/bmx_races/570384
END:VEVENT
END:VCALENDAR
