BEGIN:VCALENDAR
VERSION:2.0
PRODID:icalendar-ruby
CALSCALE:GREGORIAN
METHOD:PUBLISH
BEGIN:VEVENT
DTSTAMP:20260421T105719Z
UID:b4b5fe4e-572f-48fb-a757-c9c22a6dafb5
DTSTART;VALUE=DATE:20240917
DTEND;VALUE=DATE:20240917
DESCRIPTION:Tucson BMX
LOCATION:9245 E Irvington  Tucson AZ 85730 USA
SUMMARY:Local Race Single
URL:/site/bmx_races/570827
END:VEVENT
END:VCALENDAR
