BEGIN:VCALENDAR
VERSION:2.0
PRODID:icalendar-ruby
CALSCALE:GREGORIAN
METHOD:PUBLISH
BEGIN:VEVENT
DTSTAMP:20260420T211847Z
UID:54186ec1-5d6d-40cd-a69b-3ccaf6c4155c
DTSTART;VALUE=DATE:20240921
DTEND;VALUE=DATE:20240921
DESCRIPTION:Oceanside BMX
LOCATION:354 Park Rd  Qualicum Beach BC V9Y3R5 CAN
SUMMARY:Local Race Single
URL:/site/bmx_races/570998
END:VEVENT
END:VCALENDAR
