BEGIN:VCALENDAR
VERSION:2.0
PRODID:icalendar-ruby
CALSCALE:GREGORIAN
METHOD:PUBLISH
BEGIN:VEVENT
DTSTAMP:20260420T174558Z
UID:78a7a2e1-b4ac-4fba-9cbf-015a932d8f61
DTSTART;VALUE=DATE:20241001
DTEND;VALUE=DATE:20241001
DESCRIPTION:River City BMX
LOCATION:251 Ne Agness  Grants Pass OR 97526 USA
SUMMARY:Local Race Single
URL:/site/bmx_races/571150
END:VEVENT
END:VCALENDAR
