BEGIN:VCALENDAR
VERSION:2.0
PRODID:icalendar-ruby
CALSCALE:GREGORIAN
METHOD:PUBLISH
BEGIN:VEVENT
DTSTAMP:20260424T215249Z
UID:da822536-03b4-476b-a306-7d66faded368
DTSTART;VALUE=DATE:20250410
DTEND;VALUE=DATE:20250410
DESCRIPTION:Steel Wheels Indoor BMX
LOCATION:709 N Hobart Rd  Hobart IN 46350 USA
SUMMARY:Local Race Single
URL:/site/bmx_races/571204
END:VEVENT
END:VCALENDAR
