BEGIN:VCALENDAR
VERSION:2.0
PRODID:icalendar-ruby
CALSCALE:GREGORIAN
METHOD:PUBLISH
BEGIN:VEVENT
DTSTAMP:20260424T170917Z
UID:85c4f90e-a518-4f36-9aec-9ffa568e6faa
DTSTART;VALUE=DATE:20250705
DTEND;VALUE=DATE:20250705
DESCRIPTION:Cape Cod BMX
LOCATION:65 Quaker Meetinghouse Rd   Sandwich MA 02563 USA
SUMMARY:Local Race Single
URL:/site/bmx_races/571449
END:VEVENT
END:VCALENDAR
