BEGIN:VCALENDAR
VERSION:2.0
PRODID:icalendar-ruby
CALSCALE:GREGORIAN
METHOD:PUBLISH
BEGIN:VEVENT
DTSTAMP:20260424T170917Z
UID:0fbe87e7-7ebe-480f-9722-afb7a28bb315
DTSTART;VALUE=DATE:20250717
DTEND;VALUE=DATE:20250717
DESCRIPTION:Cape Cod BMX
LOCATION:65 Quaker Meetinghouse Rd   Sandwich MA 02563 USA
SUMMARY:Practice
URL:/site/bmx_races/571454
END:VEVENT
END:VCALENDAR
