BEGIN:VCALENDAR
VERSION:2.0
PRODID:icalendar-ruby
CALSCALE:GREGORIAN
METHOD:PUBLISH
BEGIN:VEVENT
DTSTAMP:20260424T152111Z
UID:11bdb11f-8bca-44b1-8714-2e9c9a3af56e
DTSTART;VALUE=DATE:20250819
DTEND;VALUE=DATE:20250819
DESCRIPTION:Cape Cod BMX
LOCATION:65 Quaker Meetinghouse Rd   Sandwich MA 02563 USA
SUMMARY:Local Race Single
URL:/site/bmx_races/571468
END:VEVENT
END:VCALENDAR
