BEGIN:VCALENDAR
VERSION:2.0
PRODID:icalendar-ruby
CALSCALE:GREGORIAN
METHOD:PUBLISH
BEGIN:VEVENT
DTSTAMP:20260424T134938Z
UID:7d9d80ea-ddb9-4462-9a36-3d778cb68fc3
DTSTART;VALUE=DATE:20250925
DTEND;VALUE=DATE:20250925
DESCRIPTION:Cape Cod BMX
LOCATION:65 Quaker Meetinghouse Rd   Sandwich MA 02563 USA
SUMMARY:Practice
URL:/site/bmx_races/571484
END:VEVENT
END:VCALENDAR
