BEGIN:VCALENDAR
VERSION:2.0
PRODID:icalendar-ruby
CALSCALE:GREGORIAN
METHOD:PUBLISH
BEGIN:VEVENT
DTSTAMP:20260424T103432Z
UID:466cf3e5-6774-4530-bd0e-d6bfea7cbcc5
DTSTART;VALUE=DATE:20251104
DTEND;VALUE=DATE:20251104
DESCRIPTION:Cape Cod BMX
LOCATION:65 Quaker Meetinghouse Rd   Sandwich MA 02563 USA
SUMMARY:Local Race Single
URL:/site/bmx_races/571501
END:VEVENT
END:VCALENDAR
