BEGIN:VCALENDAR
VERSION:2.0
PRODID:icalendar-ruby
CALSCALE:GREGORIAN
METHOD:PUBLISH
BEGIN:VEVENT
DTSTAMP:20260424T082147Z
UID:51121e73-4d6d-43d1-8d3a-c2e192df2a6f
DTSTART;VALUE=DATE:20251209
DTEND;VALUE=DATE:20251209
DESCRIPTION:Cape Cod BMX
LOCATION:65 Quaker Meetinghouse Rd   Sandwich MA 02563 USA
SUMMARY:Local Race Single
URL:/site/bmx_races/571516
END:VEVENT
END:VCALENDAR
