BEGIN:VCALENDAR
VERSION:2.0
PRODID:icalendar-ruby
CALSCALE:GREGORIAN
METHOD:PUBLISH
BEGIN:VEVENT
DTSTAMP:20260424T082146Z
UID:bbf899d8-246f-4355-a73e-c0e29128380c
DTSTART;VALUE=DATE:20251211
DTEND;VALUE=DATE:20251211
DESCRIPTION:Cape Cod BMX
LOCATION:65 Quaker Meetinghouse Rd   Sandwich MA 02563 USA
SUMMARY:Practice
URL:/site/bmx_races/571517
END:VEVENT
END:VCALENDAR
