BEGIN:VCALENDAR
VERSION:2.0
PRODID:icalendar-ruby
CALSCALE:GREGORIAN
METHOD:PUBLISH
BEGIN:VEVENT
DTSTAMP:20260424T090917Z
UID:9db05491-2f40-4379-8520-10cdf91175ed
DTSTART;VALUE=DATE:20251213
DTEND;VALUE=DATE:20251213
DESCRIPTION:Cape Cod BMX
LOCATION:65 Quaker Meetinghouse Rd   Sandwich MA 02563 USA
SUMMARY:Local Race Single
URL:/site/bmx_races/571518
END:VEVENT
END:VCALENDAR
