BEGIN:VCALENDAR
VERSION:2.0
PRODID:icalendar-ruby
CALSCALE:GREGORIAN
METHOD:PUBLISH
BEGIN:VEVENT
DTSTAMP:20260425T202310Z
UID:0a0d2d17-1c51-4320-94ee-0e205bfaa6d2
DTSTART;VALUE=DATE:20251009
DTEND;VALUE=DATE:20251009
DESCRIPTION:Cedar BMX
LOCATION:Red Barn Village Rd  Clarks Summit PA 18644 USA
SUMMARY:Local Race Single
URL:/site/bmx_races/571604
END:VEVENT
END:VCALENDAR
