BEGIN:VCALENDAR
VERSION:2.0
PRODID:icalendar-ruby
CALSCALE:GREGORIAN
METHOD:PUBLISH
BEGIN:VEVENT
DTSTAMP:20260420T052952Z
UID:e1f3f248-d030-4abe-878e-fa0b61883eb3
DTSTART;VALUE=DATE:20250609
DTEND;VALUE=DATE:20250609
DESCRIPTION:Marysville BMX
LOCATION:618 N Main St  Marysville OH 43040 USA
SUMMARY:Practice
URL:/site/bmx_races/571916
END:VEVENT
END:VCALENDAR
