BEGIN:VCALENDAR
VERSION:2.0
PRODID:icalendar-ruby
CALSCALE:GREGORIAN
METHOD:PUBLISH
BEGIN:VEVENT
DTSTAMP:20260420T040708Z
UID:0642362d-969e-4183-904b-e7a329ca5cf0
DTSTART;VALUE=DATE:20250719
DTEND;VALUE=DATE:20250719
DESCRIPTION:Marysville BMX
LOCATION:618 N Main St  Marysville OH 43040 USA
SUMMARY:Local Race Single
URL:/site/bmx_races/571964
END:VEVENT
END:VCALENDAR
