BEGIN:VCALENDAR
VERSION:2.0
PRODID:icalendar-ruby
CALSCALE:GREGORIAN
METHOD:PUBLISH
BEGIN:VEVENT
DTSTAMP:20260419T210904Z
UID:b1e24262-0ad1-4c1a-b324-6b043c297468
DTSTART;VALUE=DATE:20251108
DTEND;VALUE=DATE:20251108
DESCRIPTION:Marysville BMX
LOCATION:618 N Main St  Marysville OH 43040 USA
SUMMARY:Local Race Single
URL:/site/bmx_races/571980
END:VEVENT
END:VCALENDAR
