BEGIN:VCALENDAR
VERSION:2.0
PRODID:icalendar-ruby
CALSCALE:GREGORIAN
METHOD:PUBLISH
BEGIN:VEVENT
DTSTAMP:20260419T182507Z
UID:c29696da-a5b1-4dca-b4fa-c1343f33655c
DTSTART;VALUE=DATE:20250101
DTEND;VALUE=DATE:20250101
DESCRIPTION:Rum River BMX
LOCATION:Isanti Parkway Northwest  Isanti MN 55040 USA
SUMMARY:Local Race Single
URL:/site/bmx_races/571992
END:VEVENT
END:VCALENDAR
