BEGIN:VCALENDAR
VERSION:2.0
PRODID:icalendar-ruby
CALSCALE:GREGORIAN
METHOD:PUBLISH
BEGIN:VEVENT
DTSTAMP:20260426T011739Z
UID:a8909926-5531-4832-b92f-505705c691cb
DTSTART;VALUE=DATE:20250308
DTEND;VALUE=DATE:20250308
DESCRIPTION:Rum River BMX
LOCATION:Isanti Parkway Northwest  Isanti MN 55040 USA
SUMMARY:Local Race Single
URL:/site/bmx_races/572002
END:VEVENT
END:VCALENDAR
