BEGIN:VCALENDAR
VERSION:2.0
PRODID:icalendar-ruby
CALSCALE:GREGORIAN
METHOD:PUBLISH
BEGIN:VEVENT
DTSTAMP:20260424T172630Z
UID:a42bb4ec-3732-4760-aa7b-32a36f97eaa2
DTSTART;VALUE=DATE:20250322
DTEND;VALUE=DATE:20250322
DESCRIPTION:Rum River BMX
LOCATION:Isanti Parkway Northwest  Isanti MN 55040 USA
SUMMARY:Local Race Single
URL:/site/bmx_races/572004
END:VEVENT
END:VCALENDAR
