BEGIN:VCALENDAR
VERSION:2.0
PRODID:icalendar-ruby
CALSCALE:GREGORIAN
METHOD:PUBLISH
BEGIN:VEVENT
DTSTAMP:20260419T141258Z
UID:a24e3f95-7f32-43de-b396-be95e8a569b1
DTSTART;VALUE=DATE:20250329
DTEND;VALUE=DATE:20250329
DESCRIPTION:Rum River BMX
LOCATION:Isanti Parkway Northwest  Isanti MN 55040 USA
SUMMARY:Local Race Single
URL:/site/bmx_races/572005
END:VEVENT
END:VCALENDAR
