BEGIN:VCALENDAR
VERSION:2.0
PRODID:icalendar-ruby
CALSCALE:GREGORIAN
METHOD:PUBLISH
BEGIN:VEVENT
DTSTAMP:20260426T035427Z
UID:55b28836-b00c-4c6c-80f2-c8f644656073
DTSTART;VALUE=DATE:20250412
DTEND;VALUE=DATE:20250412
DESCRIPTION:Rum River BMX
LOCATION:Isanti Parkway Northwest  Isanti MN 55040 USA
SUMMARY:Local Race Single
URL:/site/bmx_races/572007
END:VEVENT
END:VCALENDAR
