BEGIN:VCALENDAR
VERSION:2.0
PRODID:icalendar-ruby
CALSCALE:GREGORIAN
METHOD:PUBLISH
BEGIN:VEVENT
DTSTAMP:20260420T100116Z
UID:bd6bfe7b-60b5-4d17-acf6-3302688cecf6
DTSTART;VALUE=DATE:20250407
DTEND;VALUE=DATE:20250407
DESCRIPTION:Derby City BMX
LOCATION:3000 Freys Hill Rd  Louisville KY 40241 USA
SUMMARY:Practice
URL:/site/bmx_races/572239
END:VEVENT
END:VCALENDAR
