BEGIN:VCALENDAR
VERSION:2.0
PRODID:icalendar-ruby
CALSCALE:GREGORIAN
METHOD:PUBLISH
BEGIN:VEVENT
DTSTAMP:20260420T112231Z
UID:bdd5d19c-fb46-4dc2-9268-9341fe92b27e
DTSTART;VALUE=DATE:20250423
DTEND;VALUE=DATE:20250423
DESCRIPTION:Derby City BMX
LOCATION:3000 Freys Hill Rd  Louisville KY 40241 USA
SUMMARY:Practice
URL:/site/bmx_races/572246
END:VEVENT
END:VCALENDAR
