BEGIN:VCALENDAR
VERSION:2.0
PRODID:icalendar-ruby
CALSCALE:GREGORIAN
METHOD:PUBLISH
BEGIN:VEVENT
DTSTAMP:20260420T093618Z
UID:f0dec9f5-c0a6-4c82-89c6-382df60e2c89
DTSTART;VALUE=DATE:20250507
DTEND;VALUE=DATE:20250507
DESCRIPTION:Derby City BMX
LOCATION:3000 Freys Hill Rd  Louisville KY 40241 USA
SUMMARY:Practice
URL:/site/bmx_races/572252
END:VEVENT
END:VCALENDAR
