BEGIN:VCALENDAR
VERSION:2.0
PRODID:icalendar-ruby
CALSCALE:GREGORIAN
METHOD:PUBLISH
BEGIN:VEVENT
DTSTAMP:20260420T080707Z
UID:e596c6ee-3082-4c0c-b805-48e187fbe36b
DTSTART;VALUE=DATE:20250614
DTEND;VALUE=DATE:20250614
DESCRIPTION:Derby City BMX
LOCATION:3000 Freys Hill Rd  Louisville KY 40241 USA
SUMMARY:Local Race Single
URL:/site/bmx_races/572266
END:VEVENT
END:VCALENDAR
