BEGIN:VCALENDAR
VERSION:2.0
PRODID:icalendar-ruby
CALSCALE:GREGORIAN
METHOD:PUBLISH
BEGIN:VEVENT
DTSTAMP:20260420T012110Z
UID:fa375117-8c73-4ebe-9bc9-b8e5854da5a4
DTSTART;VALUE=DATE:20251013
DTEND;VALUE=DATE:20251013
DESCRIPTION:Derby City BMX
LOCATION:3000 Freys Hill Rd  Louisville KY 40241 USA
SUMMARY:Practice
URL:/site/bmx_races/572316
END:VEVENT
END:VCALENDAR
