BEGIN:VCALENDAR
VERSION:2.0
PRODID:icalendar-ruby
CALSCALE:GREGORIAN
METHOD:PUBLISH
BEGIN:VEVENT
DTSTAMP:20260422T154926Z
UID:0de3c604-6089-4cbb-b00b-ecf42a998dd6
DTSTART;VALUE=DATE:20250903
DTEND;VALUE=DATE:20250903
DESCRIPTION:Nellis BMX
LOCATION:4949 E Cheyenne Ave  Las Vegas NV 89115 USA
SUMMARY:Local Race Single
URL:/site/bmx_races/572465
END:VEVENT
END:VCALENDAR
