BEGIN:VCALENDAR
VERSION:2.0
PRODID:icalendar-ruby
CALSCALE:GREGORIAN
METHOD:PUBLISH
BEGIN:VEVENT
DTSTAMP:20260423T085622Z
UID:d30a5f61-3ae0-42a7-bdf6-9f4ef6edfd5b
DTSTART;VALUE=DATE:20250208
DTEND;VALUE=DATE:20250208
DESCRIPTION:Southwest Wyoming Indoor BMX
LOCATION:3320 Yellowstone Road  Rock Springs WY 82901 USA
SUMMARY:Local Race Single
URL:/site/bmx_races/572527
END:VEVENT
END:VCALENDAR
