BEGIN:VCALENDAR
VERSION:2.0
PRODID:icalendar-ruby
CALSCALE:GREGORIAN
METHOD:PUBLISH
BEGIN:VEVENT
DTSTAMP:20260419T144205Z
UID:651a0e6e-55da-4ace-933b-5a90ff643fc0
DTSTART;VALUE=DATE:20250302
DTEND;VALUE=DATE:20250302
DESCRIPTION:Fountain City BMX
LOCATION:David D. Whetstone Jr. Sports Complex     County Road 4 W Prattvil
 le AL 36066 USA
SUMMARY:Local Race Single
URL:/site/bmx_races/572954
END:VEVENT
END:VCALENDAR
