BEGIN:VCALENDAR
VERSION:2.0
PRODID:icalendar-ruby
CALSCALE:GREGORIAN
METHOD:PUBLISH
BEGIN:VEVENT
DTSTAMP:20260419T131306Z
UID:49ba73e6-db65-445d-b78b-5ff44edbd706
DTSTART;VALUE=DATE:20250420
DTEND;VALUE=DATE:20250420
DESCRIPTION:Fountain City BMX
LOCATION:David D. Whetstone Jr. Sports Complex     County Road 4 W Prattvil
 le AL 36066 USA
SUMMARY:Local Race Single
URL:/site/bmx_races/572975
END:VEVENT
END:VCALENDAR
