BEGIN:VCALENDAR
VERSION:2.0
PRODID:icalendar-ruby
CALSCALE:GREGORIAN
METHOD:PUBLISH
BEGIN:VEVENT
DTSTAMP:20260423T103634Z
UID:d2bbaa13-510d-4de4-a5c6-6cf5e58137e3
DTSTART;VALUE=DATE:20250517
DTEND;VALUE=DATE:20250517
DESCRIPTION:Valley BMX
LOCATION:Myron Ln.  Off Wilawana Rd Athens PA 18840 USA
SUMMARY:Local Race Single
URL:/site/bmx_races/573300
END:VEVENT
END:VCALENDAR
