BEGIN:VCALENDAR
VERSION:2.0
PRODID:icalendar-ruby
CALSCALE:GREGORIAN
METHOD:PUBLISH
BEGIN:VEVENT
DTSTAMP:20260423T070305Z
UID:5f068b4d-de1e-4abf-8853-f2abc9a2af22
DTSTART;VALUE=DATE:20250710
DTEND;VALUE=DATE:20250710
DESCRIPTION:Valley BMX
LOCATION:Myron Ln.  Off Wilawana Rd Athens PA 18840 USA
SUMMARY:Local Race Single
URL:/site/bmx_races/573332
END:VEVENT
END:VCALENDAR
