BEGIN:VCALENDAR
VERSION:2.0
PRODID:icalendar-ruby
CALSCALE:GREGORIAN
METHOD:PUBLISH
BEGIN:VEVENT
DTSTAMP:20260422T150151Z
UID:34595863-bf05-4e88-82d7-6fa8784a0221
DTSTART;VALUE=DATE:20241006
DTEND;VALUE=DATE:20241006
DESCRIPTION:Wheelhouse BMX
LOCATION:10401 E Hwy 89 A   Prescott AZ 86315 USA
SUMMARY:Local Race Single
URL:/site/bmx_races/573468
END:VEVENT
END:VCALENDAR
