BEGIN:VCALENDAR
VERSION:2.0
PRODID:icalendar-ruby
CALSCALE:GREGORIAN
METHOD:PUBLISH
BEGIN:VEVENT
DTSTAMP:20260424T161300Z
UID:6ba93ff2-6369-4e2a-86dc-5c3c0ae5576a
DTSTART;VALUE=DATE:20250603
DTEND;VALUE=DATE:20250603
DESCRIPTION:Pineview Park BMX
LOCATION:6540 Saukview Dr  St. Cloud MN 56303 USA
SUMMARY:Clinic
URL:/site/bmx_races/573960
END:VEVENT
END:VCALENDAR
