BEGIN:VCALENDAR
VERSION:2.0
PRODID:icalendar-ruby
CALSCALE:GREGORIAN
METHOD:PUBLISH
BEGIN:VEVENT
DTSTAMP:20260420T174557Z
UID:e01902b9-3ba2-4f91-8d0b-58b2b22e48ca
DTSTART;VALUE=DATE:20250105
DTEND;VALUE=DATE:20250105
DESCRIPTION:Rock Island Indoor BMX
LOCATION:2621 4th Ave  Rock Island IL 61201 USA
SUMMARY:Gold Cup Qualifier Triple
URL:/site/bmx_races/574051
END:VEVENT
END:VCALENDAR
