BEGIN:VCALENDAR
VERSION:2.0
PRODID:icalendar-ruby
CALSCALE:GREGORIAN
METHOD:PUBLISH
BEGIN:VEVENT
DTSTAMP:20260422T083018Z
UID:8f952ccc-0ca3-49b0-a28e-765a27849fe6
DTSTART;VALUE=DATE:20250718
DTEND;VALUE=DATE:20250718
DESCRIPTION:Hagerstown BMX
LOCATION:Fairground Ave & Cross St  Hagerstown MD 21740 USA
SUMMARY:Local Race Single
URL:/site/bmx_races/574065
END:VEVENT
END:VCALENDAR
