BEGIN:VCALENDAR
VERSION:2.0
PRODID:icalendar-ruby
CALSCALE:GREGORIAN
METHOD:PUBLISH
BEGIN:VEVENT
DTSTAMP:20260425T205917Z
UID:7a63226d-3a00-487f-abf5-2faa8566bfba
DTSTART;VALUE=DATE:20250924
DTEND;VALUE=DATE:20250924
DESCRIPTION:Rockford BMX
LOCATION:4950 Safford Rd  Rockford IL 61101 USA
SUMMARY:Local Race Single
URL:/site/bmx_races/574313
END:VEVENT
END:VCALENDAR
