BEGIN:VCALENDAR
VERSION:2.0
PRODID:icalendar-ruby
CALSCALE:GREGORIAN
METHOD:PUBLISH
BEGIN:VEVENT
DTSTAMP:20260426T032628Z
UID:331be38d-f189-42e1-9454-c6c178fc334d
DTSTART;VALUE=DATE:20250930
DTEND;VALUE=DATE:20250930
DESCRIPTION:Fort Wayne BMX
LOCATION:3411 Sherman Blvd  Fort Wayne IN 46808 USA
SUMMARY:Local Race Single
URL:/site/bmx_races/574382
END:VEVENT
END:VCALENDAR
