BEGIN:VCALENDAR
VERSION:2.0
PRODID:icalendar-ruby
CALSCALE:GREGORIAN
METHOD:PUBLISH
BEGIN:VEVENT
DTSTAMP:20260426T015924Z
UID:f5feca2b-eaab-4daf-a0c5-318303b54495
DTSTART;VALUE=DATE:20250606
DTEND;VALUE=DATE:20250606
DESCRIPTION:Chesapeake BMX
LOCATION:726 Donaldson Avenue  Severn MD 21144 USA
SUMMARY:Local Race Single
URL:/site/bmx_races/574706
END:VEVENT
END:VCALENDAR
