BEGIN:VCALENDAR
VERSION:2.0
PRODID:icalendar-ruby
CALSCALE:GREGORIAN
METHOD:PUBLISH
BEGIN:VEVENT
DTSTAMP:20260420T112913Z
UID:be1c451a-649f-4dc0-ae36-0e844b454209
DTSTART;VALUE=DATE:20250521
DTEND;VALUE=DATE:20250521
DESCRIPTION:Hagerstown BMX
LOCATION:Fairground Ave & Cross St  Hagerstown MD 21740 USA
SUMMARY:Local Race Single
URL:/site/bmx_races/575408
END:VEVENT
END:VCALENDAR
