BEGIN:VCALENDAR
VERSION:2.0
PRODID:icalendar-ruby
CALSCALE:GREGORIAN
METHOD:PUBLISH
BEGIN:VEVENT
DTSTAMP:20260420T085105Z
UID:e1ea5d83-de33-4efc-bfb7-2b42eeb14b04
DTSTART;VALUE=DATE:20250728
DTEND;VALUE=DATE:20250728
DESCRIPTION:Hagerstown BMX
LOCATION:Fairground Ave & Cross St  Hagerstown MD 21740 USA
SUMMARY:Local Race Single
URL:/site/bmx_races/575428
END:VEVENT
END:VCALENDAR
